<metadata xml:lang="en"><Esri><CreaDate>20200116</CreaDate><CreaTime>15575500</CreaTime><ArcGISFormat>1.0</ArcGISFormat><ArcGISstyle>EPA Metadata Specification NAP ISO19115 2003</ArcGISstyle><SyncOnce>FALSE</SyncOnce><DataProperties><itemProps><itemName Sync="TRUE">WdS_1951_60.tif</itemName><itemLocation><linkage Sync="TRUE">file://D:\DArcGIS\Data\WdS_1951_60.tif</linkage><protocol Sync="TRUE">Local Area Network</protocol></itemLocation><nativeExtBox><westBL Sync="TRUE">-2355825.000000</westBL><eastBL Sync="TRUE">-1140203.223897</eastBL><southBL Sync="TRUE">1001265.000000</southBL><northBL Sync="TRUE">3165818.023620</northBL><exTypeCode Sync="TRUE">1</exTypeCode></nativeExtBox><imsContentType Sync="TRUE" export="False">002</imsContentType></itemProps><coordRef><type Sync="TRUE">Projected</type><geogcsn Sync="TRUE">GCS_North_American_1983</geogcsn><csUnits Sync="TRUE">Linear Unit: Meter (1.000000)</csUnits><projcsn Sync="TRUE">NAD_1983_Albers</projcsn><peXml Sync="TRUE">&lt;ProjectedCoordinateSystem xsi:type='typens:ProjectedCoordinateSystem' xmlns:xsi='http://www.w3.org/2001/XMLSchema-instance' xmlns:xs='http://www.w3.org/2001/XMLSchema' xmlns:typens='http://www.esri.com/schemas/ArcGIS/10.4'&gt;&lt;WKT&gt;PROJCS[&amp;quot;NAD_1983_Albers&amp;quot;,GEOGCS[&amp;quot;GCS_North_American_1983&amp;quot;,DATUM[&amp;quot;D_North_American_1983&amp;quot;,SPHEROID[&amp;quot;GRS_1980&amp;quot;,6378137.0,298.257222101]],PRIMEM[&amp;quot;Greenwich&amp;quot;,0.0],UNIT[&amp;quot;Degree&amp;quot;,0.0174532925199433]],PROJECTION[&amp;quot;Albers&amp;quot;],PARAMETER[&amp;quot;false_easting&amp;quot;,0.0],PARAMETER[&amp;quot;false_northing&amp;quot;,0.0],PARAMETER[&amp;quot;central_meridian&amp;quot;,-96.0],PARAMETER[&amp;quot;standard_parallel_1&amp;quot;,29.5],PARAMETER[&amp;quot;standard_parallel_2&amp;quot;,45.5],PARAMETER[&amp;quot;latitude_of_origin&amp;quot;,23.0],UNIT[&amp;quot;Meter&amp;quot;,1.0]]&lt;/WKT&gt;&lt;XOrigin&gt;-16901100&lt;/XOrigin&gt;&lt;YOrigin&gt;-6972200&lt;/YOrigin&gt;&lt;XYScale&gt;266467840.99085236&lt;/XYScale&gt;&lt;ZOrigin&gt;-100000&lt;/ZOrigin&gt;&lt;ZScale&gt;10000&lt;/ZScale&gt;&lt;MOrigin&gt;-100000&lt;/MOrigin&gt;&lt;MScale&gt;10000&lt;/MScale&gt;&lt;XYTolerance&gt;0.001&lt;/XYTolerance&gt;&lt;ZTolerance&gt;0.001&lt;/ZTolerance&gt;&lt;MTolerance&gt;0.001&lt;/MTolerance&gt;&lt;HighPrecision&gt;true&lt;/HighPrecision&gt;&lt;/ProjectedCoordinateSystem&gt;</peXml></coordRef><RasterProperties><General><PixelDepth Sync="TRUE">8</PixelDepth><HasColormap Sync="TRUE">FALSE</HasColormap><CompressionType Sync="TRUE">LZW</CompressionType><NumBands Sync="TRUE">1</NumBands><Format Sync="TRUE">TIFF</Format><HasPyramids Sync="TRUE">FALSE</HasPyramids><SourceType Sync="TRUE">discrete</SourceType><PixelType Sync="TRUE">unsigned integer</PixelType><NoDataValue Sync="TRUE">255</NoDataValue></General></RasterProperties></DataProperties><SyncDate>20200117</SyncDate><SyncTime>19321900</SyncTime><ModDate>20200401</ModDate><ModTime>14411300</ModTime><scaleRange><minScale>20000000</minScale><maxScale>5000</maxScale></scaleRange><ArcGISProfile>NAP</ArcGISProfile></Esri><eainfo><detailed Name="WdS_1951_60.tif.vat" xmlns=""><enttyp><enttypl Sync="TRUE">WdS_1951_60.tif.vat</enttypl><enttypt Sync="TRUE">Table</enttypt><enttypc Sync="TRUE">4</enttypc><enttypd>Difference in Feddema Moisture Index multiplied by 1000</enttypd><enttypds>Feddema, J. J.: A revised Thornthwaite-type global climate classification, Phys. Geogr., 26(6), 442–466, doi:10.2747/0272-3646.26.6.442, 2005</enttypds></enttyp><attr xmlns=""><attrlabl Sync="TRUE">OID</attrlabl><attalias Sync="TRUE">OID</attalias><attrtype Sync="TRUE">OID</attrtype><attwidth Sync="TRUE">4</attwidth><atprecis Sync="TRUE">0</atprecis><attscale Sync="TRUE">0</attscale><attrdef Sync="TRUE">Internal feature number.</attrdef><attrdefs Sync="TRUE">Esri</attrdefs><attrdomv><udom Sync="TRUE">Sequential unique whole numbers that are automatically generated.</udom></attrdomv><attrdomv><edom xmlns=""><edomv>OID</edomv><edomvd>Feature number</edomvd><edomvds>arbitrary</edomvds></edom></attrdomv></attr><attr xmlns=""><attrlabl Sync="TRUE">Value</attrlabl><attalias Sync="TRUE">Value</attalias><attrtype Sync="TRUE">Integer</attrtype><attwidth Sync="TRUE">10</attwidth><atprecis Sync="TRUE">10</atprecis><attscale Sync="TRUE">0</attscale><attrdef>This raster contains the modeled change in the seasonality of the month of maximum surplus precipitation between the target time period and the 1971-2000 Normal period (1 = same season, 0 = earlier season, 2 = later season).</attrdef><attrdefs>Wigington Jr., P. J., Leibowitz, S. G., Comeleo, R. L. and Ebersole, J. L.: Oregon hydrologic landscapes: A classification framework, J. Am. Water Resour. Assoc., 49(1), 163–182, doi:10.1111/jawr.12009, 2013.</attrdefs><attrdomv><edom xmlns=""><edomv>1000 to -1000</edomv><edomvd>Difference in Feddema Moisture Index</edomvd><edomvds>Feddema, J. J.: A revised Thornthwaite-type global climate classification, Phys. Geogr., 26(6), 442–466, doi:10.2747/0272-3646.26.6.442, 2005</edomvds></edom></attrdomv></attr><attr xmlns=""><attrlabl Sync="TRUE">Count</attrlabl><attalias Sync="TRUE">Count</attalias><attrtype Sync="TRUE">Double</attrtype><attwidth Sync="TRUE">19</attwidth><atprecis Sync="TRUE">0</atprecis><attscale Sync="TRUE">0</attscale><attrdef>Difference in Feddema Moisture Index multiplied by 1000</attrdef><attrdefs>Feddema, J. J.: A revised Thornthwaite-type global climate classification, Phys. Geogr., 26(6), 442–466, doi:10.2747/0272-3646.26.6.442, 2005</attrdefs><attrdomv><edom xmlns=""><edomv>Count</edomv><edomvd>Number of cells with this value</edomvd><edomvds>Sum</edomvds></edom></attrdomv></attr></detailed><detailed xmlns=""><enttyp><enttypl>df_start year (yyyy)_end year (yy)</enttypl><enttypd>Change in season of month with maximum annual precipitation surplus (1 = same season, 0 = earlier season, 2 = later season)</enttypd><enttypds>Feddema, J. J.: A revised Thornthwaite-type global climate classification, Phys. Geogr., 26(6), 442–466, doi:10.2747/0272-3646.26.6.442, 2005</enttypds></enttyp></detailed></eainfo><mdFileID>9881C39F-BE8F-4286-BBCD-B080DE872129</mdFileID><mdLang><languageCode value="eng"/><countryCode value="USA" Sync="TRUE"/></mdLang><mdChar><CharSetCd value="004"/></mdChar><mdHrLv><ScopeCd value="005"/></mdHrLv><mdContact><rpIndName>Randy Comeleo</rpIndName><rpOrgName>US EPA (US EPA, CPHEA/PESD)</rpOrgName><rpPosName>US EPA, CPHEA/PESD Postdoctoral Researcher</rpPosName><rpCntInfo><cntPhone><voiceNum>815-456-4173</voiceNum></cntPhone><cntAddress><city>Philomath</city><adminArea>Oregon</adminArea><postCode>97370</postCode><eMailAdd>Comeleo.Randy@epa.gov</eMailAdd></cntAddress></rpCntInfo><role><RoleCd value="007"/></role></mdContact><mdDateSt Sync="FALSE">2020-04-01</mdDateSt><mdStanName>ArcGIS Metadata</mdStanName><mdStanVer>1.0</mdStanVer><distInfo xmlns=""><distributor xmlns=""><distorCont><rpIndName>Randy Comeleo</rpIndName><rpOrgName>US EPA (US EPA, CPHEA/PESD)</rpOrgName><rpPosName>US EPA, CPHEA/PESD Postdoctoral Researcher</rpPosName><rpCntInfo><cntPhone><voiceNum>815-456-4173</voiceNum></cntPhone><cntAddress><city>Philomath</city><adminArea>Oregon</adminArea><postCode>97370</postCode><eMailAdd>Comeleo.Randy@epa.gov</eMailAdd></cntAddress></rpCntInfo><role><RoleCd value="007"/></role></distorCont></distributor><distFormat xmlns=""><formatName Sync="TRUE">Raster Dataset</formatName><formatVer>ArcGIS 10.4.1</formatVer></distFormat><distTranOps xmlns=""><transSize>34.357</transSize></distTranOps></distInfo><dataIdInfo><idCitation xmlns=""><resTitle Sync="FALSE">Modeled change in the Seasonality between 1951-1960 and the 1971-2000 Normal period</resTitle><date><createDate>2020-01-02T00:00:00</createDate><pubDate>2020-01-13T00:00:00</pubDate><reviseDate>2020-01-13T00:00:00</reviseDate></date><resEdDate>20200113</resEdDate><citRespParty xmlns=""><rpIndName>Randy Comeleo</rpIndName><rpOrgName>US EPA, CPHEA/PESD</rpOrgName><rpPosName>Ecologist</rpPosName><rpCntInfo><cntPhone><voiceNum>541.754.4508</voiceNum></cntPhone><cntAddress><city>Corvallis</city><adminArea>Oregon</adminArea><postCode>97333</postCode><country>US</country><eMailAdd>Comeleo.Randy@epa.gov</eMailAdd></cntAddress></rpCntInfo><role><RoleCd value="008"/></role></citRespParty><citRespParty xmlns=""><rpIndName>Randy Comeleo</rpIndName><rpOrgName>US EPA (US EPA, CPHEA/PESD)</rpOrgName><rpPosName>US EPA, CPHEA/PESD Postdoctoral Researcher</rpPosName><rpCntInfo><cntPhone><voiceNum>815-456-4173</voiceNum></cntPhone><cntAddress><city>Philomath</city><adminArea>Oregon</adminArea><postCode>97370</postCode><eMailAdd>Comeleo.Randy@epa.gov</eMailAdd></cntAddress></rpCntInfo><role><RoleCd value="007"/></role></citRespParty><citRespParty xmlns=""><rpIndName>Randy Comeleo</rpIndName><rpOrgName>US EPA, CPHEA/PESD</rpOrgName><rpPosName>Ecologist</rpPosName><rpCntInfo><cntPhone><voiceNum>541.754.4508</voiceNum></cntPhone><cntAddress><city>Corvallis</city><adminArea>Oregon</adminArea><postCode>97333</postCode><country>US</country><eMailAdd>Comeleo.Randy@epa.gov</eMailAdd></cntAddress></rpCntInfo><role><RoleCd value="006"/></role></citRespParty><presForm xmlns=""><PresFormCd value="005"/></presForm></idCitation><idAbs>Originators: US Environmental Protection Agency Publisher: US EPA Office of Research &amp; Development (ORD) - National Health and Environmental Effects Research Laboratory (NHEERL) Publication place: Corvallis, OR Publication date: Time Period of Data: 1900-2010; Projected data for 2041-2070. Data location: GeoPlatform ("https://www.geoplatform.gov/") and EPA Environmental Dataset Gateway (https://edg.epa.gov/). Abstract: We apply the hydrologic landscapes (HL) concept to assess the hydrologic vulnerability of the western United States (U.S.) to projected climate conditions. Our goal is to understand the potential impacts for stakeholder-defined interests across large geographic areas. The basic assumption of the HL approach is that catchments that share similar physical and climatic characteristics are expected to have similar hydrologic characteristics. We map climate vulnerability by integrating the HL approach into a retrospective analysis of historical data to assess variability in future climate projections and hydrology, which includes temperature, precipitation, potential evapotranspiration, snow accumulation, climatic moisture, surplus water, and seasonality of water surplus. Projections that are not within two-standard deviations of the historical decadal average contribute to the vulnerability index for each metric. The resulting vulnerability maps show that temperature and potential evapotranspiration are consistently projected to have high vulnerability indices for the western U.S. Precipitation vulnerability is not as spatially-uniform as temperature. The highest elevation areas with snow are projected to experience significant changes in snow accumulation. The seasonality vulnerability map shows that specific mountainous areas in the West are most prone to changes in seasonality, whereas many transitional terrains are moderately susceptible. This paper illustrates how the HL approach can help assess climatic and hydrologic vulnerability across large spatial scales. By combining the HL concept and climate vulnerability analyses, we provide a planning approach that could allow resource managers to consider how future climate conditions may impact important economic and conservation resources. Purpose: These data were created in support of the US EPA’s ACE CIVA 2.3, Task Project (QAPP: E-WED-0030854). However, these climate data and hydrologic landscape summaries should have broad applicability for hydrological, geomorphic, or ecological modeling, management, and restoration.  This raster contains the modeled change in the seasonality of the month of maximum surplus precipitation between the target time period (in title) and the 1971-2000 Normal period (1 = same season, 0 = earlier season, 2 = later season).</idAbs><idPurp>We apply the hydrologic landscapes (HL) concept to assess the hydrologic vulnerability of the western United States (U.S.) to projected climate conditions. Our goal is to understand the potential impacts for stakeholder-defined interests across large geographic areas. The basic assumption of the HL approach is that catchments that share similar physical and climatic characteristics are expected to have similar hydrologic characteristics. We map climate vulnerability by integrating the HL approach into a retrospective analysis of historical data to assess variability in future climate projections and hydrology, which includes temperature, precipitation, potential evapotranspiration, snow accumulation, climatic moisture, surplus water, and seasonality of water surplus. This raster contains the modeled change in the seasonality of the month of maximum surplus precipitation between the target time period (in title) and the 1971-2000 Normal period (1 = same season, 0 = earlier season, 2 = later season).</idPurp><idCredit>Randy Comeleo, Randy Comeleo</idCredit><idPoC xmlns=""><rpIndName>Randy Comeleo</rpIndName><rpOrgName>US EPA, CPHEA/PESD</rpOrgName><rpPosName>Ecologist</rpPosName><rpCntInfo xmlns=""><cntPhone><voiceNum tddtty="">541.754.4508</voiceNum></cntPhone><cntAddress addressType=""><city>Corvallis</city><adminArea>Oregon</adminArea><postCode>97333</postCode><country>US</country><eMailAdd>Comeleo.Randy@epa.gov</eMailAdd></cntAddress></rpCntInfo><role><RoleCd value="008"/></role></idPoC><idPoC xmlns=""><rpIndName>Randy Comeleo</rpIndName><rpOrgName>US EPA, CPHEA/PESD</rpOrgName><rpPosName>Ecologist</rpPosName><rpCntInfo xmlns=""><cntPhone><voiceNum tddtty="">541.754.4508</voiceNum></cntPhone><cntAddress addressType=""><city>Corvallis</city><adminArea>Oregon</adminArea><postCode>97333</postCode><country>US</country><eMailAdd>Comeleo.Randy@epa.gov</eMailAdd></cntAddress></rpCntInfo><role><RoleCd value="008"/></role></idPoC><idPoC xmlns=""><rpIndName>Randy Comeleo</rpIndName><rpOrgName>US EPA, CPHEA/PESD</rpOrgName><rpPosName>Ecologist</rpPosName><rpCntInfo xmlns=""><cntPhone><voiceNum tddtty="">541.754.4508</voiceNum></cntPhone><cntAddress addressType=""><city>Corvallis</city><adminArea>Oregon</adminArea><postCode>97333</postCode><country>US</country><eMailAdd>Comeleo.Randy@epa.gov</eMailAdd></cntAddress></rpCntInfo><role><RoleCd value="008"/></role></idPoC><idPoC xmlns=""><rpIndName>Randy Comeleo</rpIndName><rpOrgName>US EPA, CPHEA/PESD</rpOrgName><rpPosName>Ecologist</rpPosName><rpCntInfo xmlns=""><cntPhone><voiceNum tddtty="">541.754.4508</voiceNum></cntPhone><cntAddress addressType=""><city>Corvallis</city><adminArea>Oregon</adminArea><postCode>97333</postCode><country>US</country><eMailAdd>Comeleo.Randy@epa.gov</eMailAdd></cntAddress></rpCntInfo><role><RoleCd value="008"/></role></idPoC><idPoC xmlns=""><rpIndName>Randy Comeleo</rpIndName><rpOrgName>US EPA (US EPA, CPHEA/PESD)</rpOrgName><rpPosName>US EPA, CPHEA/PESD Postdoctoral Researcher</rpPosName><rpCntInfo xmlns=""><cntPhone><voiceNum tddtty="">815-456-4173</voiceNum></cntPhone><cntAddress addressType=""><city>Philomath</city><adminArea>Oregon</adminArea><postCode>97370</postCode><eMailAdd>Comeleo.Randy@epa.gov</eMailAdd></cntAddress></rpCntInfo><role><RoleCd value="007"/></role></idPoC><idPoC xmlns=""><rpIndName>Randy Comeleo</rpIndName><rpOrgName>US EPA, CPHEA/PESD</rpOrgName><rpPosName>Ecologist</rpPosName><rpCntInfo xmlns=""><cntPhone><voiceNum tddtty="">541.754.4508</voiceNum></cntPhone><cntAddress addressType=""><city>Corvallis</city><adminArea>Oregon</adminArea><postCode>97333</postCode><country>US</country><eMailAdd>Comeleo.Randy@epa.gov</eMailAdd></cntAddress></rpCntInfo><role><RoleCd value="008"/></role></idPoC><idPoC xmlns=""><rpIndName>Randy Comeleo</rpIndName><rpOrgName>US EPA (US EPA, CPHEA/PESD)</rpOrgName><rpPosName>US EPA, CPHEA/PESD Postdoctoral Researcher</rpPosName><rpCntInfo xmlns=""><cntPhone><voiceNum tddtty="">815-456-4173</voiceNum></cntPhone><cntAddress addressType=""><city>Philomath</city><adminArea>Oregon</adminArea><postCode>97370</postCode><eMailAdd>Comeleo.Randy@epa.gov</eMailAdd></cntAddress></rpCntInfo><role><RoleCd value="007"/></role></idPoC><idPoC xmlns=""><rpIndName>Randy Comeleo, PhD</rpIndName><rpOrgName>USEPA</rpOrgName><rpPosName>Ecologist</rpPosName><rpCntInfo xmlns=""><cntPhone><voiceNum tddtty="">541-754-4508</voiceNum></cntPhone><cntAddress addressType=""><delPoint>200 SW 35th St.</delPoint><city>Corvallis</city><adminArea>OR</adminArea><postCode>97333</postCode><eMailAdd>Comeleo.Randy@epa.gov</eMailAdd></cntAddress></rpCntInfo><role><RoleCd value="010"/></role></idPoC><idPoC xmlns=""><rpIndName>Randy Comeleo</rpIndName><rpOrgName>US EPA</rpOrgName><rpPosName>Research Scientist</rpPosName><role><RoleCd value="008"/></role></idPoC><idPoC xmlns=""><rpIndName>Randy Comeleo</rpIndName><rpOrgName>US EPA</rpOrgName><rpPosName>Research Scientist</rpPosName><role><RoleCd value="008"/></role></idPoC><idPoC xmlns=""><rpIndName>Randy Comeleo</rpIndName><rpOrgName>US EPA, CPHEA/PESD</rpOrgName><rpPosName>Ecologist</rpPosName><rpCntInfo xmlns=""><cntPhone><voiceNum tddtty="">541.754.4508</voiceNum></cntPhone><cntAddress addressType=""><city>Corvallis</city><adminArea>Oregon</adminArea><postCode>97333</postCode><country>US</country><eMailAdd>Comeleo.Randy@epa.gov</eMailAdd></cntAddress></rpCntInfo><role><RoleCd value="008"/></role></idPoC><idPoC xmlns=""><rpIndName>Randy Comeleo</rpIndName><rpOrgName>US EPA (US EPA, CPHEA/PESD)</rpOrgName><rpPosName>US EPA, CPHEA/PESD Postdoctoral Researcher</rpPosName><rpCntInfo xmlns=""><cntPhone><voiceNum tddtty="">815-456-4173</voiceNum></cntPhone><cntAddress addressType=""><city>Philomath</city><adminArea>Oregon</adminArea><postCode>97370</postCode><eMailAdd>Comeleo.Randy@epa.gov</eMailAdd></cntAddress></rpCntInfo><role><RoleCd value="007"/></role></idPoC><resMaint><maintFreq><MaintFreqCd value="011"/></maintFreq></resMaint><placeKeys xmlns=""><thesaName xmlns=""><resTitle>EPA Place Names</resTitle><date><pubDate>2015-01-31T00:00:00</pubDate></date><citOnlineRes xmlns=""><linkage>https://ofmpub.epa.gov/sor_internet/registry/termreg/searchandretrieve/taxonomies/search.do?search=&amp;searchString=&amp;taxonomyName=WBT%20-%20Geographic%20Locations</linkage><orFunct><OnFunctCd value="002"/></orFunct><orName>Web Taxonomy - Geographic Locations</orName></citOnlineRes></thesaName><thesaLang><languageCode value="eng"/><countryCode value="US"/></thesaLang><keyword>United States</keyword></placeKeys><tempKeys><keyword>1900 -2010; 2041-2070</keyword></tempKeys><themeKeys xmlns=""><thesaName xmlns=""><resTitle>EPA GIS Keyword Thesaurus</resTitle><date><pubDate>2007-11-02T00:00:00</pubDate></date><citOnlineRes xmlns=""><linkage>https://www.epa.gov/geospatial/epa-metadata-technical-specification</linkage><orFunct><OnFunctCd value="002"/></orFunct><orName>EPA Metadata Technical Specification</orName></citOnlineRes></thesaName><keyword>Climate</keyword><keyword>Environment</keyword><keyword>Water</keyword></themeKeys><themeKeys xmlns=""><thesaName xmlns=""><resTitle>Federal Program Inventory</resTitle><date><pubDate>2013-09-16T00:00:00</pubDate></date><citOnlineRes xmlns=""><linkage>https://www.performance.gov/federalprograminventory</linkage><orFunct><OnFunctCd value="002"/></orFunct><orName>Federal Program Inventory</orName></citOnlineRes></thesaName><keyword>020:094</keyword></themeKeys><spatRpType><SpatRepTypCd value="001"/></spatRpType><dataLang><languageCode value="eng"/><countryCode value="USA" Sync="TRUE"/></dataLang><dataChar><CharSetCd value="004"/></dataChar><envirDesc Sync="TRUE"> Version 6.2 (Build 9200) ; Esri ArcGIS 10.4.1.5686</envirDesc><dataExt xmlns=""><geoEle xmlns=""><GeoBndBox><exTypeCode>true</exTypeCode><westBL>-127.850214</westBL><eastBL>-108.080515</eastBL><southBL>29.391649</southBL><northBL>50.656502</northBL></GeoBndBox></geoEle><exDesc>Continental U.S.</exDesc><tempEle><TempExtent><exTemp><TM_Period xmlns=""><tmBegin>1971-01-01T00:00:00</tmBegin><tmEnd>2010-12-31T00:00:00</tmEnd></TM_Period></exTemp></TempExtent></tempEle></dataExt><dataExt xmlns=""><geoEle xmlns=""><GeoBndBox esriExtentType="search"><exTypeCode Sync="TRUE">1</exTypeCode><westBL Sync="TRUE">-127.854174</westBL><eastBL Sync="TRUE">-108.071872</eastBL><northBL Sync="TRUE">50.664713</northBL><southBL Sync="TRUE">29.335308</southBL></GeoBndBox></geoEle></dataExt><idStatus><ProgCd value="007"/></idStatus><tpCat><TopicCatCd value="008"/></tpCat><tpCat><TopicCatCd value="006"/></tpCat><tpCat><TopicCatCd value="010"/></tpCat><tpCat><TopicCatCd value="007"/></tpCat><tpCat><TopicCatCd value="004"/></tpCat><tpCat><TopicCatCd value="003"/></tpCat></dataIdInfo><mdMaint xmlns=""><maintFreq><MaintFreqCd value="011"/></maintFreq></mdMaint><dqInfo xmlns=""><dqScope><scpLvl><ScopeCd value="005"/></scpLvl></dqScope><dataLineage><statement>Datasource: USEPA based upon output of Hydrologic Landscape Data analyses</statement><dataSource xmlns="" type=""><srcDesc>Datasource: USEPA based upon output of Hydrologic Landscape Data analyses</srcDesc><srcCitatn><resTitle>Using hydrologic landscape classification and climatic time series to assess hydrologic vulnerability of the Western U.S. to climate</resTitle><date><createDate>2020-01-02T00:00:00</createDate><pubDate>2020-01-13T00:00:00</pubDate><reviseDate>2020-01-13T00:00:00</reviseDate></date></srcCitatn><srcExt><exDesc>Temporal extent ranges from January of 1900 to December of 2070</exDesc><tempEle><TempExtent><exTemp><TM_Period gmlID="ID0EBJBI"><tmBegin>2012-01-01T00:00:00</tmBegin><tmEnd>2020-07-01T00:00:00</tmEnd></TM_Period></exTemp></TempExtent></tempEle></srcExt></dataSource><prcStep xmlns=""><stepDesc>Datasource: USEPA based upon output of Hydrologic Landscape Data analyses See paper for methods: Jones, C.E. et al. 2020 (submitted). Using hydrologic landscape classification and climatic time series to assess hydrologic vulnerability of the Western U.S. to climate</stepDesc><stepDateTm>2020-01-13T00:00:00</stepDateTm><stepProc><rpIndName>Randy Comeleo</rpIndName><rpOrgName>US EPA (US EPA, CPHEA/PESD)</rpOrgName><rpPosName>US EPA, CPHEA/PESD Postdoctoral Researcher</rpPosName><rpCntInfo><cntPhone><voiceNum>815-456-4173</voiceNum></cntPhone><cntAddress><city>Philomath</city><adminArea>Oregon</adminArea><postCode>97370</postCode><eMailAdd>Comeleo.Randy@epa.gov</eMailAdd></cntAddress></rpCntInfo><role><RoleCd value="007"/></role></stepProc></prcStep></dataLineage></dqInfo><spatRepInfo><VectSpatRep xmlns=""><topLvl><TopoLevCd value="001"/></topLvl><geometObjs><geoObjTyp><GeoObjTypCd value="002"/></geoObjTyp><geoObjCnt>32504</geoObjCnt></geometObjs></VectSpatRep><Georect xmlns=""><cellGeo><CellGeoCd Sync="TRUE" value="002"/></cellGeo><numDims Sync="TRUE">2</numDims><tranParaAv Sync="TRUE">1</tranParaAv><chkPtAv Sync="TRUE">0</chkPtAv><cornerPts xmlns=""><pos Sync="TRUE">-2355825.000000 1001265.000000</pos></cornerPts><cornerPts xmlns=""><pos Sync="TRUE">-2355825.000000 3165818.023620</pos></cornerPts><cornerPts xmlns=""><pos Sync="TRUE">-1140203.223897 3165818.023620</pos></cornerPts><cornerPts xmlns=""><pos Sync="TRUE">-1140203.223897 1001265.000000</pos></cornerPts><centerPt xmlns=""><pos Sync="TRUE">-1748014.111948 2083541.511810</pos></centerPt><axisDimension type="002" xmlns=""><dimSize Sync="TRUE">3095</dimSize><dimResol><value Sync="TRUE" uom="m">392.769556</value></dimResol></axisDimension><axisDimension type="001" xmlns=""><dimSize Sync="TRUE">5511</dimSize><dimResol><value Sync="TRUE" uom="m">392.769556</value></dimResol></axisDimension><ptInPixel><PixOrientCd Sync="TRUE" value="001"/></ptInPixel></Georect></spatRepInfo><refSysInfo><RefSystem dimension="horizontal"><refSysID xmlns=""><identCode code="5070"/><idCodeSpace Sync="TRUE">EPSG</idCodeSpace><idVersion Sync="TRUE">7.4.6(10.1.0)</idVersion></refSysID></RefSystem></refSysInfo><mdHrLvName Sync="TRUE">dataset</mdHrLvName>