<metadata xml:lang="en"><Esri><CreaDate>20200117</CreaDate><CreaTime>16102500</CreaTime><ArcGISFormat>1.0</ArcGISFormat><ArcGISstyle>EPA Metadata Specification NAP ISO19115 2003</ArcGISstyle><SyncOnce>FALSE</SyncOnce><DataProperties><itemProps><itemName Sync="TRUE">WdF_2001_10.tif</itemName><itemLocation><linkage Sync="TRUE">file://D:\DArcGIS\Data\WdF_2001_10.tif</linkage><protocol Sync="TRUE">Local Area Network</protocol></itemLocation><imsContentType Sync="TRUE" export="False">002</imsContentType><nativeExtBox><westBL Sync="TRUE">-2355825.000000</westBL><eastBL Sync="TRUE">-1140203.223897</eastBL><southBL Sync="TRUE">1001264.999959</southBL><northBL Sync="TRUE">3165818.023579</northBL><exTypeCode Sync="TRUE">1</exTypeCode></nativeExtBox></itemProps><coordRef><type Sync="TRUE">Projected</type><geogcsn Sync="TRUE">GCS_North_American_1983</geogcsn><csUnits Sync="TRUE">Linear Unit: Meter (1.000000)</csUnits><projcsn Sync="TRUE">NAD_1983_Albers</projcsn><peXml Sync="TRUE">&lt;ProjectedCoordinateSystem xsi:type='typens:ProjectedCoordinateSystem' xmlns:xsi='http://www.w3.org/2001/XMLSchema-instance' xmlns:xs='http://www.w3.org/2001/XMLSchema' xmlns:typens='http://www.esri.com/schemas/ArcGIS/10.4'&gt;&lt;WKT&gt;PROJCS[&amp;quot;NAD_1983_Albers&amp;quot;,GEOGCS[&amp;quot;GCS_North_American_1983&amp;quot;,DATUM[&amp;quot;D_North_American_1983&amp;quot;,SPHEROID[&amp;quot;GRS_1980&amp;quot;,6378137.0,298.257222101]],PRIMEM[&amp;quot;Greenwich&amp;quot;,0.0],UNIT[&amp;quot;Degree&amp;quot;,0.0174532925199433]],PROJECTION[&amp;quot;Albers&amp;quot;],PARAMETER[&amp;quot;false_easting&amp;quot;,0.0],PARAMETER[&amp;quot;false_northing&amp;quot;,0.0],PARAMETER[&amp;quot;central_meridian&amp;quot;,-96.0],PARAMETER[&amp;quot;standard_parallel_1&amp;quot;,29.5],PARAMETER[&amp;quot;standard_parallel_2&amp;quot;,45.5],PARAMETER[&amp;quot;latitude_of_origin&amp;quot;,23.0],UNIT[&amp;quot;Meter&amp;quot;,1.0]]&lt;/WKT&gt;&lt;XOrigin&gt;-16901100&lt;/XOrigin&gt;&lt;YOrigin&gt;-6972200&lt;/YOrigin&gt;&lt;XYScale&gt;266467840.99085236&lt;/XYScale&gt;&lt;ZOrigin&gt;-100000&lt;/ZOrigin&gt;&lt;ZScale&gt;10000&lt;/ZScale&gt;&lt;MOrigin&gt;-100000&lt;/MOrigin&gt;&lt;MScale&gt;10000&lt;/MScale&gt;&lt;XYTolerance&gt;0.001&lt;/XYTolerance&gt;&lt;ZTolerance&gt;0.001&lt;/ZTolerance&gt;&lt;MTolerance&gt;0.001&lt;/MTolerance&gt;&lt;HighPrecision&gt;true&lt;/HighPrecision&gt;&lt;/ProjectedCoordinateSystem&gt;</peXml></coordRef><RasterProperties><General><PixelDepth Sync="TRUE">32</PixelDepth><HasColormap Sync="TRUE">FALSE</HasColormap><CompressionType Sync="TRUE">None</CompressionType><NumBands Sync="TRUE">1</NumBands><Format Sync="TRUE">TIFF</Format><HasPyramids Sync="TRUE">FALSE</HasPyramids><SourceType Sync="TRUE">continuous</SourceType><PixelType Sync="TRUE">floating point</PixelType><NoDataValue Sync="TRUE">-3.4028235e+038</NoDataValue></General></RasterProperties></DataProperties><SyncDate>20200117</SyncDate><SyncTime>19153300</SyncTime><ModDate>20200117</ModDate><ModTime>19160800</ModTime><scaleRange><minScale>500000</minScale><maxScale>5000</maxScale></scaleRange><ArcGISProfile>NAP</ArcGISProfile></Esri><dataIdInfo><envirDesc Sync="TRUE"> Version 6.2 (Build 9200) ; Esri ArcGIS 10.4.1.5686</envirDesc><dataLang><languageCode value="eng" Sync="TRUE"/><countryCode value="USA" Sync="TRUE"/></dataLang><idCitation xmlns=""><resTitle Sync="FALSE">Modeled change in the average Feddema Moisture Index (multiplied by 1000) between 2000-2010 and the 1971-2000 Normal period.</resTitle><presForm xmlns=""><PresFormCd value="005" Sync="TRUE"/><fgdcGeoform>raster digital data</fgdcGeoform></presForm><date><createDate>2020-01-10</createDate><pubDate>2020-01-10</pubDate><reviseDate>2020-01-10</reviseDate></date></idCitation><spatRpType><SpatRepTypCd value="002" Sync="TRUE"/></spatRpType><dataExt xmlns=""><geoEle xmlns=""><GeoBndBox esriExtentType="search"><exTypeCode Sync="TRUE">1</exTypeCode><westBL Sync="TRUE">-127.854174</westBL><eastBL Sync="TRUE">-108.071872</eastBL><northBL Sync="TRUE">50.664713</northBL><southBL Sync="TRUE">29.335308</southBL></GeoBndBox></geoEle><tempEle><TempExtent><exTemp><TM_Period xmlns=""><tmBegin>1971-01-01T00:00:00</tmBegin><tmEnd>2010-12-31T00:00:00</tmEnd></TM_Period></exTemp></TempExtent></tempEle></dataExt><idPurp>We apply the hydrologic landscapes (HL) concept to assess the hydrologic vulnerability of the western United States (U.S.) to projected climate conditions. Our goal is to understand the potential impacts for stakeholder-defined interests across large geographic areas. The basic assumption of the HL approach is that catchments that share similar physical and climatic characteristics are expected to have similar hydrologic characteristics. We map climate vulnerability by integrating the HL approach into a retrospective analysis of historical data to assess variability in future climate projections and hydrology, which includes temperature, precipitation, potential evapotranspiration, snow accumulation, climatic moisture, surplus water, and seasonality of water surplus. This raster contains the modeled change in the average Feddema Moisture Index between the timeperiod specified in the title relative to the 1971-2000 Normal period.</idPurp><idAbs>Originators: US Environmental Protection Agency Publisher: US EPA Office of Research &amp;amp; Development (ORD) - National Health and Environmental Effects Research Laboratory (NHEERL) Publication place: Corvallis, OR Publication date: Time Period of Data: 1900-2010; Projected data for 2041-2070. Data location: GeoPlatform ("https://www.geoplatform.gov/") and EPA Environmental Dataset Gateway (https://edg.epa.gov/). Abstract: We apply the hydrologic landscapes (HL) concept to assess the hydrologic vulnerability of the western United States (U.S.) to projected climate conditions. Our goal is to understand the potential impacts for stakeholder-defined interests across large geographic areas. The basic assumption of the HL approach is that catchments that share similar physical and climatic characteristics are expected to have similar hydrologic characteristics. We map climate vulnerability by integrating the HL approach into a retrospective analysis of historical data to assess variability in future climate projections and hydrology, which includes temperature, precipitation, potential evapotranspiration, snow accumulation, climatic moisture, surplus water, and seasonality of water surplus. Projections that are not within two-standard deviations of the historical decadal average contribute to the vulnerability index for each metric. The resulting vulnerability maps show that temperature and potential evapotranspiration are consistently projected to have high vulnerability indices for the western U.S. Precipitation vulnerability is not as spatially-uniform as temperature. The highest elevation areas with snow are projected to experience significant changes in snow accumulation. The seasonality vulnerability map shows that specific mountainous areas in the West are most prone to changes in seasonality, whereas many transitional terrains are moderately susceptible. This paper illustrates how the HL approach can help assess climatic and hydrologic vulnerability across large spatial scales. By combining the HL concept and climate vulnerability analyses, we provide a planning approach that could allow resource managers to consider how future climate conditions may impact important economic and conservation resources. Purpose: These data were created in support of the US EPA’s ACE CIVA 2.3, Task Project (QAPP: E-WED-0030854). However, these climate data and hydrologic landscape summaries should have broad applicability for hydrological, geomorphic, or ecological modeling, management, and restoration. This raster contains the modeled change in the average Feddema Moisture Index between the timeperiod specified in the title relative to the 1971-2000 Normal period.</idAbs><idCredit>Randy Comeleo, Randy Comeleo</idCredit><placeKeys xmlns=""><thesaName xmlns=""><resTitle>EPA Place Names</resTitle><date><pubDate>2020-01-10T00:00:00</pubDate><createDate>2020-01-10T00:00:00</createDate><reviseDate>2020-01-10T00:00:00</reviseDate></date><citOnlineRes xmlns=""><linkage>https://ofmpub.epa.gov/sor_internet/registry/termreg/searchandretrieve/taxonomies/search.do?search=&amp;searchString=&amp;taxonomyName=WBT%20-%20Geographic%20Locations</linkage><orFunct><OnFunctCd value="002"/></orFunct><orName>Web Taxonomy - Geographic Locations</orName></citOnlineRes><citRespParty xmlns=""><editorSource>My Contacts</editorSource><editorDigest>7e28745d1668c5edec8b0cda1159d779</editorDigest><rpIndName>Randy Comeleo</rpIndName><rpOrgName>USEPA (US EPA, CPHEA/PESD)</rpOrgName><rpPosName>Postdoctoral Research Fellow</rpPosName><rpCntInfo xmlns=""><cntAddress addressType="physical"><city>Corvallis</city><adminArea>OR</adminArea><postCode>97370</postCode><eMailAdd>Comeleo.Randy@epa.gov</eMailAdd><country>US</country></cntAddress></rpCntInfo><editorSave>True</editorSave><displayName>[My Contacts]   Randy Comeleo</displayName><role><RoleCd value="006"/></role></citRespParty><citRespParty xmlns=""><rpIndName>Randy Comeleo, PhD</rpIndName><rpOrgName>USEPA</rpOrgName><rpPosName>Ecologist</rpPosName><rpCntInfo xmlns=""><cntAddress addressType="physical"><city>Corvallis</city><adminArea>OR</adminArea><postCode>97333</postCode><eMailAdd>Comeleo.Randy@epa.gov</eMailAdd><delPoint>200 SW 35th St.</delPoint><country>US</country></cntAddress><cntPhone><voiceNum tddtty="">541-754-4508</voiceNum></cntPhone></rpCntInfo><displayName>[My Contacts]   Randy Comeleo, PhD</displayName><role><RoleCd value="008"/></role></citRespParty></thesaName><thesaLang><languageCode value="eng"/><countryCode value="US"/></thesaLang><keyword>Arizona</keyword><keyword>California</keyword><keyword>Idaho</keyword><keyword>Nevada</keyword><keyword>Oregon</keyword><keyword>Washington</keyword></placeKeys><themeKeys xmlns=""><thesaLang><languageCode value="eng"/><countryCode value="US"/></thesaLang><thesaName xmlns=""><resTitle>EPA GIS Keyword Thesaurus</resTitle><date><pubDate>2007-11-02T00:00:00</pubDate></date><citOnlineRes xmlns=""><linkage>https://www.epa.gov/geospatial/epa-metadata-technical-specification</linkage><orFunct><OnFunctCd value="002"/></orFunct><orName>EPA Metadata Technical Specification</orName></citOnlineRes></thesaName><keyword>Climate</keyword><keyword>Environment</keyword><keyword>Ground Water</keyword><keyword>Natural Resources</keyword><keyword>Water</keyword></themeKeys><themeKeys xmlns=""><thesaLang><languageCode value="eng"/><countryCode value="US"/></thesaLang><thesaName xmlns=""><resTitle>Federal Program Inventory</resTitle><date><pubDate>2013-09-16</pubDate></date><citOnlineRes xmlns=""><linkage>https://www.performance.gov/federalprograminventory</linkage><orFunct><OnFunctCd value="002"/></orFunct><orName>Federal Program Inventory</orName></citOnlineRes></thesaName><keyword>020:094</keyword></themeKeys><idPoC xmlns=""><rpIndName>Randy Comeleo</rpIndName><rpOrgName>US EPA, CPHEA/PESD</rpOrgName><rpPosName>Postdoctoral researcher</rpPosName><role><RoleCd value="011"/></role></idPoC><idPoC xmlns=""><editorSource>My Contacts</editorSource><editorDigest>7e28745d1668c5edec8b0cda1159d779</editorDigest><rpIndName>Randy Comeleo</rpIndName><rpOrgName>USEPA (US EPA, CPHEA/PESD)</rpOrgName><rpPosName>Postdoctoral Research Fellow</rpPosName><rpCntInfo><cntAddress addressType="physical"><city>Corvallis</city><adminArea>OR</adminArea><postCode>97370</postCode><eMailAdd>Comeleo.Randy@epa.gov</eMailAdd><country>US</country></cntAddress></rpCntInfo><editorSave>True</editorSave><displayName>[My Contacts]   Randy Comeleo</displayName><role><RoleCd value="010"/></role></idPoC><tpCat><TopicCatCd value="006"/></tpCat><tpCat><TopicCatCd value="007"/></tpCat><tpCat><TopicCatCd value="010"/></tpCat><tpCat><TopicCatCd value="003"/></tpCat><tpCat><TopicCatCd value="004"/></tpCat></dataIdInfo><mdLang><languageCode value="eng" Sync="TRUE"/><countryCode value="USA" Sync="TRUE"/></mdLang><mdChar><CharSetCd value="004" Sync="TRUE"/></mdChar><distInfo xmlns=""><distFormat xmlns=""><formatName Sync="TRUE">Raster Dataset</formatName><formatVer>ArcGIS 10.4.1</formatVer></distFormat></distInfo><mdHrLv><ScopeCd value="005" Sync="TRUE"/></mdHrLv><mdHrLvName Sync="TRUE">dataset</mdHrLvName><refSysInfo><RefSystem dimension="horizontal"><refSysID xmlns=""><identCode code="0" Sync="TRUE"/></refSysID></RefSystem></refSysInfo><spatRepInfo><Georect><cellGeo><CellGeoCd Sync="TRUE" value="002"/></cellGeo><numDims Sync="TRUE">2</numDims><tranParaAv Sync="TRUE">1</tranParaAv><chkPtAv Sync="TRUE">0</chkPtAv><cornerPts><pos Sync="TRUE">-2355825.000000 1001264.999959</pos></cornerPts><cornerPts><pos Sync="TRUE">-2355825.000000 3165818.023579</pos></cornerPts><cornerPts><pos Sync="TRUE">-1140203.223897 3165818.023579</pos></cornerPts><cornerPts><pos Sync="TRUE">-1140203.223897 1001264.999959</pos></cornerPts><centerPt><pos Sync="TRUE">-1748014.111948 2083541.511769</pos></centerPt><axisDimension type="002"><dimSize Sync="TRUE">3095</dimSize><dimResol><value Sync="TRUE" uom="m">392.769556</value></dimResol></axisDimension><axisDimension type="001"><dimSize Sync="TRUE">5511</dimSize><dimResol><value Sync="TRUE" uom="m">392.769556</value></dimResol></axisDimension><ptInPixel><PixOrientCd Sync="TRUE" value="001"/></ptInPixel></Georect></spatRepInfo><contInfo><ImgDesc xmlns=""><contentTyp><ContentTypCd Sync="TRUE" value="001"/></contentTyp><covDim><Band xmlns=""><dimDescrp Sync="TRUE">Band_1</dimDescrp><maxVal Sync="TRUE">768.000000</maxVal><minVal Sync="TRUE">-785.000000</minVal><bitsPerVal Sync="TRUE">32</bitsPerVal><valUnit><UOM type="length" gmlID=""><unitSymbol>[arb'U]</unitSymbol></UOM></valUnit><seqID><aName>10.23719</aName><attributeType><aName>1504217</aName></attributeType></seqID></Band></covDim><attDesc>This raster contains the modeled change in the average Feddema Moisture Index (multiplied by 1000) over 1901-1910 relative to the 1971-2000 Normal period.</attDesc><trianInd>False</trianInd><radCalDatAv>False</radCalDatAv><camCalInAv>False</camCalInAv><filmDistInAv>False</filmDistInAv><lensDistInAv>False</lensDistInAv></ImgDesc></contInfo><mdDateSt Sync="FALSE">2020-01-17</mdDateSt><mdFileID>3913726F-C3BB-432B-86CD-279A0B64A63F</mdFileID><mdContact xmlns=""><rpIndName>Randy Comeleo, PhD</rpIndName><rpOrgName>USEPA</rpOrgName><rpPosName>Ecologist</rpPosName><rpCntInfo xmlns=""><cntAddress addressType="physical"><city>Corvallis</city><adminArea>OR</adminArea><postCode>97333</postCode><eMailAdd>Comeleo.Randy@epa.gov</eMailAdd><delPoint>200 SW 35th St.</delPoint><country>US</country></cntAddress><cntPhone><voiceNum tddtty="">541-754-4508</voiceNum></cntPhone></rpCntInfo><displayName>[My Contacts]   Randy Comeleo, PhD</displayName><role><RoleCd value="008"/></role><displayName>[From Metadata Record]   Randy Comeleo, PhD</displayName></mdContact><mdContact xmlns=""><editorSource>My Contacts</editorSource><editorDigest>7e28745d1668c5edec8b0cda1159d779</editorDigest><rpIndName>Randy Comeleo</rpIndName><rpOrgName>USEPA (US EPA, CPHEA/PESD)</rpOrgName><rpPosName>Postdoctoral Research Fellow</rpPosName><rpCntInfo xmlns=""><cntAddress addressType="physical"><city>Corvallis</city><adminArea>OR</adminArea><postCode>97370</postCode><eMailAdd>Comeleo.Randy@epa.gov</eMailAdd><country>US</country></cntAddress></rpCntInfo><editorSave>True</editorSave><displayName>[My Contacts]   Randy Comeleo</displayName><role><RoleCd value="007"/></role></mdContact></metadata>
